BEGIN:VCALENDAR
VERSION:2.0
PRODID:GIGPRESS 2.0 WORDPRESS PLUGIN
CALSCALE:GREGORIAN
X-WR-TIMEZONE:Etc/GMT
METHOD:PUBLISH
BEGIN:VTIMEZONE
TZID:GMT
BEGIN:STANDARD
DTSTART:20071028T010000
TZOFFSETTO:+0000
TZOFFSETFROM:+0000
END:STANDARD
END:VTIMEZONE
BEGIN:VEVENT
SUMMARY:Justif at 602 Brewing Co
DESCRIPTION:Price: FREE. Notes: Heading out to Bastrop for brews and tunes at a new-to-us venue! Sunday funday anyone? All Ages
LOCATION:602 Brewing Co\, 919 Main Street\, Bastrop\, US
UID:20260531T220000Z-15-justifmusic@gmail.com
URL:https://justifmusic.com
DTSTART;VALUE=DATE-TIME;TZID=GMT:20260531T220000Z
DTEND;VALUE=DATE-TIME;TZID=GMT:20260531T220000Z
DTSTAMP:20260423T031153Z
END:VEVENT
END:VCALENDAR